BEGIN:VCALENDAR
VERSION:2.0
PRODID:-//postgresqleu/confreg//NONSGML v1.0//EN
BEGIN:VEVENT
UID:1829@pgconfnyc2024
DTSTART:20240930T133000Z
DTEND:20240930T135000Z
DTSTAMP:20240930T131607Z
SUMMARY:Opening - Welcome to PGConf.NYC 2024! ()
LOCATION:The Forum
URL:https://postgresql.us/events/pgconfnyc2024/schedule/session/1829/
END:VEVENT
BEGIN:VEVENT
UID:1860@pgconfnyc2024
DTSTART:20240930T134500Z
DTEND:20240930T141000Z
DTSTAMP:20240930T133108Z
SUMMARY:Keynote: Growing the PostgreSQL Community with PgUS ()
LOCATION:The Forum
URL:https://postgresql.us/events/pgconfnyc2024/schedule/session/1860/
END:VEVENT
BEGIN:VEVENT
UID:1850@pgconfnyc2024
DTSTART:20240930T141000Z
DTEND:20240930T143000Z
DTSTAMP:20240930T135609Z
SUMMARY:Sponsor Keynote: Everything Postgres at Microsoft – 2024 in Review (Charles Feddersen)
LOCATION:The Forum
URL:https://postgresql.us/events/pgconfnyc2024/schedule/session/1850/
END:VEVENT
BEGIN:VEVENT
UID:1761@pgconfnyc2024
DTSTART:20240930T150000Z
DTEND:20240930T155000Z
DTSTAMP:20240930T144612Z
SUMMARY:Transparent Application-level Encryption with Postgres Trusted Language Extensions ()
LOCATION:Library (Sponsor)
URL:https://postgresql.us/events/pgconfnyc2024/schedule/session/1761/
END:VEVENT
BEGIN:VEVENT
UID:1581@pgconfnyc2024
DTSTART:20240930T150000Z
DTEND:20240930T155000Z
DTSTAMP:20240930T144612Z
SUMMARY:Reducing Costs and Improving Performance With Data Modeling in Postgres (Charly Batista)
LOCATION:The Hub
URL:https://postgresql.us/events/pgconfnyc2024/schedule/session/1581/
END:VEVENT
BEGIN:VEVENT
UID:1757@pgconfnyc2024
DTSTART:20240930T150000Z
DTEND:20240930T155000Z
DTSTAMP:20240930T144612Z
SUMMARY:What&#x27;s new in PostgreSQL 16 (Magnus Hagander)
LOCATION:The Forum
URL:https://postgresql.us/events/pgconfnyc2024/schedule/session/1757/
END:VEVENT
BEGIN:VEVENT
UID:1773@pgconfnyc2024
DTSTART:20240930T150000Z
DTEND:20240930T155000Z
DTSTAMP:20240930T144612Z
SUMMARY:Beginner&#x27;s Guide to Partitioning vs. Sharding in Postgres (Claire Giordano)
LOCATION:Club Parlor
URL:https://postgresql.us/events/pgconfnyc2024/schedule/session/1773/
END:VEVENT
BEGIN:VEVENT
UID:1826@pgconfnyc2024
DTSTART:20240930T160000Z
DTEND:20240930T165000Z
DTSTAMP:20240930T154616Z
SUMMARY:Extension Development Lifecycle in Rust (Arda Aytekin)
LOCATION:The Hub
URL:https://postgresql.us/events/pgconfnyc2024/schedule/session/1826/
END:VEVENT
BEGIN:VEVENT
UID:1732@pgconfnyc2024
DTSTART:20240930T160000Z
DTEND:20240930T165000Z
DTSTAMP:20240930T154616Z
SUMMARY:Amazon Aurora High Availability and Disaster Recovery Features for Global Resilience (Shayon Sanyal)
LOCATION:Library (Sponsor)
URL:https://postgresql.us/events/pgconfnyc2024/schedule/session/1732/
END:VEVENT
BEGIN:VEVENT
UID:1605@pgconfnyc2024
DTSTART:20240930T160000Z
DTEND:20240930T165000Z
DTSTAMP:20240930T154616Z
SUMMARY:Human Beings Do Not Have a Primary Key (Christophe Pettus)
LOCATION:Club Parlor
URL:https://postgresql.us/events/pgconfnyc2024/schedule/session/1605/
END:VEVENT
BEGIN:VEVENT
UID:1802@pgconfnyc2024
DTSTART:20240930T160000Z
DTEND:20240930T165000Z
DTSTAMP:20240930T154615Z
SUMMARY:Lesson learned from auto-tuning PostgreSQL (Costa Alexoglou)
LOCATION:The Forum
URL:https://postgresql.us/events/pgconfnyc2024/schedule/session/1802/
END:VEVENT
BEGIN:VEVENT
UID:1853@pgconfnyc2024
DTSTART:20240930T180000Z
DTEND:20240930T185000Z
DTSTAMP:20240930T174622Z
SUMMARY:Advantages of globally distributed PostgreSQL in a managed cloud for ultra-high availability, disaster tolerance and greater security ()
LOCATION:Library (Sponsor)
URL:https://postgresql.us/events/pgconfnyc2024/schedule/session/1853/
END:VEVENT
BEGIN:VEVENT
UID:1657@pgconfnyc2024
DTSTART:20240930T180000Z
DTEND:20240930T185000Z
DTSTAMP:20240930T174622Z
SUMMARY:Looking for the differences in your data (Tatiana Krupenya)
LOCATION:The Hub
URL:https://postgresql.us/events/pgconfnyc2024/schedule/session/1657/
END:VEVENT
BEGIN:VEVENT
UID:1698@pgconfnyc2024
DTSTART:20240930T180000Z
DTEND:20240930T185000Z
DTSTAMP:20240930T174622Z
SUMMARY:Block Party: Notion&#x27;s journey to scaling Postgres (Arka Ganguli)
LOCATION:The Forum
URL:https://postgresql.us/events/pgconfnyc2024/schedule/session/1698/
END:VEVENT
BEGIN:VEVENT
UID:1677@pgconfnyc2024
DTSTART:20240930T180000Z
DTEND:20240930T185000Z
DTSTAMP:20240930T174622Z
SUMMARY:Importance of PostgreSQL Vacuum Tuning to Optimize Database Performance (Suyog Sampat Pagare)
LOCATION:Club Parlor
URL:https://postgresql.us/events/pgconfnyc2024/schedule/session/1677/
END:VEVENT
BEGIN:VEVENT
UID:1715@pgconfnyc2024
DTSTART:20240930T190000Z
DTEND:20240930T195000Z
DTSTAMP:20240930T184625Z
SUMMARY:Overcoming Migration Challenges: From Oracle to PostgreSQL (BAJI SHAIK, Sameer Malik)
LOCATION:Club Parlor
URL:https://postgresql.us/events/pgconfnyc2024/schedule/session/1715/
END:VEVENT
BEGIN:VEVENT
UID:1678@pgconfnyc2024
DTSTART:20240930T190000Z
DTEND:20240930T195000Z
DTSTAMP:20240930T184626Z
SUMMARY:Postgres schema migrations using the expand/contract pattern (Andrew Farries)
LOCATION:The Hub
URL:https://postgresql.us/events/pgconfnyc2024/schedule/session/1678/
END:VEVENT
BEGIN:VEVENT
UID:1857@pgconfnyc2024
DTSTART:20240930T190000Z
DTEND:20240930T195000Z
DTSTAMP:20240930T184626Z
SUMMARY:ODAK - Cloud-Native Postgres Appliance (Onur Eroğlu)
LOCATION:Library (Sponsor)
URL:https://postgresql.us/events/pgconfnyc2024/schedule/session/1857/
END:VEVENT
BEGIN:VEVENT
UID:1776@pgconfnyc2024
DTSTART:20240930T190000Z
DTEND:20240930T195000Z
DTSTAMP:20240930T184625Z
SUMMARY:Surpassing 100K Postgres Connections With An In-Database Connection Pooling Extension (Jonah H. Harris)
LOCATION:The Forum
URL:https://postgresql.us/events/pgconfnyc2024/schedule/session/1776/
END:VEVENT
BEGIN:VEVENT
UID:1785@pgconfnyc2024
DTSTART:20240930T203000Z
DTEND:20240930T212000Z
DTSTAMP:20240930T201631Z
SUMMARY:Terraforming Postgres (Selena Flannery)
LOCATION:Club Parlor
URL:https://postgresql.us/events/pgconfnyc2024/schedule/session/1785/
END:VEVENT
BEGIN:VEVENT
UID:1855@pgconfnyc2024
DTSTART:20240930T203000Z
DTEND:20240930T212000Z
DTSTAMP:20240930T201631Z
SUMMARY:Is Application Refactoring Holding Back Your Oracle to PostgreSQL Migrations?  Datavail Introduces Intelligent Database Virtualization from Liberatii (Eric Russo, James Reynolds, Nima Torabi)
LOCATION:Library (Sponsor)
URL:https://postgresql.us/events/pgconfnyc2024/schedule/session/1855/
END:VEVENT
BEGIN:VEVENT
UID:1661@pgconfnyc2024
DTSTART:20240930T203000Z
DTEND:20240930T212000Z
DTSTAMP:20240930T201631Z
SUMMARY:Incremental Backup (Robert Haas)
LOCATION:The Hub
URL:https://postgresql.us/events/pgconfnyc2024/schedule/session/1661/
END:VEVENT
BEGIN:VEVENT
UID:1692@pgconfnyc2024
DTSTART:20240930T203000Z
DTEND:20240930T212000Z
DTSTAMP:20240930T201631Z
SUMMARY:JSON performance in Postgres and indexes. (Gleb Otochkin)
LOCATION:The Forum
URL:https://postgresql.us/events/pgconfnyc2024/schedule/session/1692/
END:VEVENT
BEGIN:VEVENT
UID:1861@pgconfnyc2024
DTSTART:20241001T135000Z
DTEND:20241001T141000Z
DTSTAMP:20241001T133737Z
SUMMARY:Sponsor Keynote: Our ongoing journey enhancing PostgreSQL (David Rader)
LOCATION:The Forum
URL:https://postgresql.us/events/pgconfnyc2024/schedule/session/1861/
END:VEVENT
BEGIN:VEVENT
UID:1849@pgconfnyc2024
DTSTART:20241001T144000Z
DTEND:20241001T153000Z
DTSTAMP:20241001T142740Z
SUMMARY:PostgreSQL operational pain points and solutions (Monica Sarbu, Tudor Golubenco)
LOCATION:Library (Sponsor)
URL:https://postgresql.us/events/pgconfnyc2024/schedule/session/1849/
END:VEVENT
BEGIN:VEVENT
UID:1745@pgconfnyc2024
DTSTART:20241001T144000Z
DTEND:20241001T153000Z
DTSTAMP:20241001T142740Z
SUMMARY:Latest developments in PostgreSQL (Amit Kapila)
LOCATION:The Forum
URL:https://postgresql.us/events/pgconfnyc2024/schedule/session/1745/
END:VEVENT
BEGIN:VEVENT
UID:1759@pgconfnyc2024
DTSTART:20241001T144000Z
DTEND:20241001T153000Z
DTSTAMP:20241001T142740Z
SUMMARY:Securing Postgres for use with GenAI (Min-Hank Ho)
LOCATION:The Hub
URL:https://postgresql.us/events/pgconfnyc2024/schedule/session/1759/
END:VEVENT
BEGIN:VEVENT
UID:1672@pgconfnyc2024
DTSTART:20241001T144000Z
DTEND:20241001T153000Z
DTSTAMP:20241001T142740Z
SUMMARY:Indexing Beyond Columns: Expressions, Text Fragments, JSON Attributes, and Top-N Queries (Franck Pachot)
LOCATION:Club Parlor
URL:https://postgresql.us/events/pgconfnyc2024/schedule/session/1672/
END:VEVENT
BEGIN:VEVENT
UID:1789@pgconfnyc2024
DTSTART:20241001T154000Z
DTEND:20241001T163000Z
DTSTAMP:20241001T152744Z
SUMMARY:Postgres Platform &quot;Best Practices&quot; for the Modern DBA (Chelsea Dole)
LOCATION:The Forum
URL:https://postgresql.us/events/pgconfnyc2024/schedule/session/1789/
END:VEVENT
BEGIN:VEVENT
UID:1711@pgconfnyc2024
DTSTART:20241001T154000Z
DTEND:20241001T163000Z
DTSTAMP:20241001T152744Z
SUMMARY:Time Travel Queries with Postgres (Qian Li)
LOCATION:Club Parlor
URL:https://postgresql.us/events/pgconfnyc2024/schedule/session/1711/
END:VEVENT
BEGIN:VEVENT
UID:1856@pgconfnyc2024
DTSTART:20241001T154000Z
DTEND:20241001T163000Z
DTSTAMP:20241001T152744Z
SUMMARY:Where does it hurt? Gathering information to help us help you (Christophe Pettus)
LOCATION:Library (Sponsor)
URL:https://postgresql.us/events/pgconfnyc2024/schedule/session/1856/
END:VEVENT
BEGIN:VEVENT
UID:1735@pgconfnyc2024
DTSTART:20241001T154000Z
DTEND:20241001T163000Z
DTSTAMP:20241001T152744Z
SUMMARY:Testing your PostgreSQL backups: a practical guide (Nicholas Meyer)
LOCATION:The Hub
URL:https://postgresql.us/events/pgconfnyc2024/schedule/session/1735/
END:VEVENT
BEGIN:VEVENT
UID:1862@pgconfnyc2024
DTSTART:20241001T180000Z
DTEND:20241001T185000Z
DTSTAMP:20241001T174752Z
SUMMARY:Best practices for using pgvector (Jonathan S. Katz)
LOCATION:The Forum
URL:https://postgresql.us/events/pgconfnyc2024/schedule/session/1862/
END:VEVENT
BEGIN:VEVENT
UID:1813@pgconfnyc2024
DTSTART:20241001T180000Z
DTEND:20241001T185000Z
DTSTAMP:20241001T174752Z
SUMMARY:Discovering Postgres: A Journey into the #1 Open Source Relational Database (Emma Saroyan)
LOCATION:The Hub
URL:https://postgresql.us/events/pgconfnyc2024/schedule/session/1813/
END:VEVENT
BEGIN:VEVENT
UID:1598@pgconfnyc2024
DTSTART:20241001T180000Z
DTEND:20241001T185000Z
DTSTAMP:20241001T174752Z
SUMMARY:Unlocking the Postgres Lock Manager (Bruce Momjian)
LOCATION:Club Parlor
URL:https://postgresql.us/events/pgconfnyc2024/schedule/session/1598/
END:VEVENT
BEGIN:VEVENT
UID:1851@pgconfnyc2024
DTSTART:20241001T180000Z
DTEND:20241001T185000Z
DTSTAMP:20241001T174752Z
SUMMARY:Postgres on Azure - a whirlwind tour of Flexible Server (Guy Bowerman, Kanchan Bharati)
LOCATION:Library (Sponsor)
URL:https://postgresql.us/events/pgconfnyc2024/schedule/session/1851/
END:VEVENT
BEGIN:VEVENT
UID:1713@pgconfnyc2024
DTSTART:20241001T190000Z
DTEND:20241001T195000Z
DTSTAMP:20241001T184755Z
SUMMARY:Mastering PostgreSQL Partitioning: Supercharge Performance and Simplify Maintenance (Ryan Booz)
LOCATION:The Forum
URL:https://postgresql.us/events/pgconfnyc2024/schedule/session/1713/
END:VEVENT
BEGIN:VEVENT
UID:1858@pgconfnyc2024
DTSTART:20241001T190000Z
DTEND:20241001T195000Z
DTSTAMP:20241001T184755Z
SUMMARY:Beyond PostgreSQL 17: 7 DBA Workarounds for Enhanced Management (Vibhor Kumar)
LOCATION:Library (Sponsor)
URL:https://postgresql.us/events/pgconfnyc2024/schedule/session/1858/
END:VEVENT
BEGIN:VEVENT
UID:1682@pgconfnyc2024
DTSTART:20241001T190000Z
DTEND:20241001T195000Z
DTSTAMP:20241001T184755Z
SUMMARY:Postgres Security Primer: Considering Multiple Perspectives (Elizabeth Christensen)
LOCATION:Club Parlor
URL:https://postgresql.us/events/pgconfnyc2024/schedule/session/1682/
END:VEVENT
BEGIN:VEVENT
UID:1738@pgconfnyc2024
DTSTART:20241001T190000Z
DTEND:20241001T195000Z
DTSTAMP:20241001T184755Z
SUMMARY:Real-time Predictions with PostgreSQL and PL/Python (Drishti Jain)
LOCATION:The Hub
URL:https://postgresql.us/events/pgconfnyc2024/schedule/session/1738/
END:VEVENT
BEGIN:VEVENT
UID:1843@pgconfnyc2024
DTSTART:20241002T135000Z
DTEND:20241002T141000Z
DTSTAMP:20241002T133906Z
SUMMARY:Sponsor Keynote: Havelsan (N. Semih Demirtoka)
LOCATION:The Forum
URL:https://postgresql.us/events/pgconfnyc2024/schedule/session/1843/
END:VEVENT
BEGIN:VEVENT
UID:1728@pgconfnyc2024
DTSTART:20241002T144000Z
DTEND:20241002T153000Z
DTSTAMP:20241002T142910Z
SUMMARY:Making the best use of modern SSL (Peter Eisentraut)
LOCATION:The Hub
URL:https://postgresql.us/events/pgconfnyc2024/schedule/session/1728/
END:VEVENT
BEGIN:VEVENT
UID:1859@pgconfnyc2024
DTSTART:20241002T144000Z
DTEND:20241002T153000Z
DTSTAMP:20241002T142910Z
SUMMARY:A look at key tradeoffs in gen AI development on PostgreSQL (Sandy Ghai)
LOCATION:Library (Sponsor)
URL:https://postgresql.us/events/pgconfnyc2024/schedule/session/1859/
END:VEVENT
BEGIN:VEVENT
UID:1769@pgconfnyc2024
DTSTART:20241002T144000Z
DTEND:20241002T153000Z
DTSTAMP:20241002T142910Z
SUMMARY:Scaling past RDS PostgreSQL&#x27;s vertical scaling limits: Lessons and guidance on the largest PostgreSQL workloads (Alisdair Owens, Andrei Dukhounik)
LOCATION:The Forum
URL:https://postgresql.us/events/pgconfnyc2024/schedule/session/1769/
END:VEVENT
BEGIN:VEVENT
UID:1782@pgconfnyc2024
DTSTART:20241002T144000Z
DTEND:20241002T153000Z
DTSTAMP:20241002T142910Z
SUMMARY:Elastic-Quality full-text search in Postgres via Tantivy (Philippe Noël)
LOCATION:Club Parlor
URL:https://postgresql.us/events/pgconfnyc2024/schedule/session/1782/
END:VEVENT
BEGIN:VEVENT
UID:1689@pgconfnyc2024
DTSTART:20241002T154000Z
DTEND:20241002T163000Z
DTSTAMP:20241002T152914Z
SUMMARY:The PostgreSQL License Fee: Community Participation (Stacey Haysler)
LOCATION:The Hub
URL:https://postgresql.us/events/pgconfnyc2024/schedule/session/1689/
END:VEVENT
BEGIN:VEVENT
UID:1821@pgconfnyc2024
DTSTART:20241002T154000Z
DTEND:20241002T163000Z
DTSTAMP:20241002T152914Z
SUMMARY:Advancing Drug Search with PostgreSQL (Taras Kloba)
LOCATION:The Forum
URL:https://postgresql.us/events/pgconfnyc2024/schedule/session/1821/
END:VEVENT
BEGIN:VEVENT
UID:1852@pgconfnyc2024
DTSTART:20241002T154000Z
DTEND:20241002T163000Z
DTSTAMP:20241002T152914Z
SUMMARY:Automated Database Change Management with Flyway and CI/CD Pipelines (Ryan Booz)
LOCATION:Library (Sponsor)
URL:https://postgresql.us/events/pgconfnyc2024/schedule/session/1852/
END:VEVENT
BEGIN:VEVENT
UID:1819@pgconfnyc2024
DTSTART:20241002T154000Z
DTEND:20241002T163000Z
DTSTAMP:20241002T152914Z
SUMMARY:9.2 to 15 and beyond: a case study of a tricky upgrade path (Nicholas Meyer)
LOCATION:Club Parlor
URL:https://postgresql.us/events/pgconfnyc2024/schedule/session/1819/
END:VEVENT
BEGIN:VEVENT
UID:1854@pgconfnyc2024
DTSTART:20241002T180000Z
DTEND:20241002T185000Z
DTSTAMP:20241002T174923Z
SUMMARY:How to optimize a slow Postgres query, featuring pganalyze (Lukas Fittl)
LOCATION:Library (Sponsor)
URL:https://postgresql.us/events/pgconfnyc2024/schedule/session/1854/
END:VEVENT
BEGIN:VEVENT
UID:1763@pgconfnyc2024
DTSTART:20241002T180000Z
DTEND:20241002T185000Z
DTSTAMP:20241002T174923Z
SUMMARY:Becoming a PG_STAT_* (star) (Chirag Dave, Sami Imseih)
LOCATION:Club Parlor
URL:https://postgresql.us/events/pgconfnyc2024/schedule/session/1763/
END:VEVENT
BEGIN:VEVENT
UID:1628@pgconfnyc2024
DTSTART:20241002T180000Z
DTEND:20241002T185000Z
DTSTAMP:20241002T174923Z
SUMMARY:How to: Never be on call as a DBA Again (Pat Wright)
LOCATION:The Hub
URL:https://postgresql.us/events/pgconfnyc2024/schedule/session/1628/
END:VEVENT
BEGIN:VEVENT
UID:1577@pgconfnyc2024
DTSTART:20241002T180000Z
DTEND:20241002T185000Z
DTSTAMP:20241002T174923Z
SUMMARY:Using Logical Replication for Major Version Upgrades and Tenant Migrations (Shayon Mukherjee)
LOCATION:The Forum
URL:https://postgresql.us/events/pgconfnyc2024/schedule/session/1577/
END:VEVENT
BEGIN:VEVENT
UID:1662@pgconfnyc2024
DTSTART:20241002T190000Z
DTEND:20241002T195000Z
DTSTAMP:20241002T184927Z
SUMMARY:A journey into postgresql logical replication: the next chapter (José Neves)
LOCATION:The Forum
URL:https://postgresql.us/events/pgconfnyc2024/schedule/session/1662/
END:VEVENT
BEGIN:VEVENT
UID:1848@pgconfnyc2024
DTSTART:20241002T190000Z
DTEND:20241002T195000Z
DTSTAMP:20241002T184927Z
SUMMARY:No Time To Rest – A Developer’s TDE Journey (Muhammad Usama)
LOCATION:Library (Sponsor)
URL:https://postgresql.us/events/pgconfnyc2024/schedule/session/1848/
END:VEVENT
BEGIN:VEVENT
UID:1675@pgconfnyc2024
DTSTART:20241002T190000Z
DTEND:20241002T195000Z
DTSTAMP:20241002T184927Z
SUMMARY:pg_hint_plan - get the right plan without surprises (Franck Pachot)
LOCATION:The Hub
URL:https://postgresql.us/events/pgconfnyc2024/schedule/session/1675/
END:VEVENT
BEGIN:VEVENT
UID:1666@pgconfnyc2024
DTSTART:20241002T190000Z
DTEND:20241002T195000Z
DTSTAMP:20241002T184927Z
SUMMARY:Greenplum is no longer OSS: change of operations in mid-flight (Joaquim Oliveira, Pilar de Teodoro)
LOCATION:Club Parlor
URL:https://postgresql.us/events/pgconfnyc2024/schedule/session/1666/
END:VEVENT
END:VCALENDAR
