BEGIN:VCALENDAR
VERSION:2.0
PRODID:-//postgresqleu/confreg//NONSGML v1.0//EN
BEGIN:VEVENT
UID:1939@pgdaychicago2025
DTSTART:20250425T135000Z
DTEND:20250425T140500Z
DTSTAMP:20250425T133515Z
SUMMARY:Opening ()
LOCATION:East &amp; West
URL:https://postgresql.us/events/pgdaychicago2025/schedule/session/1939/
END:VEVENT
BEGIN:VEVENT
UID:1901@pgdaychicago2025
DTSTART:20250425T141500Z
DTEND:20250425T150000Z
DTSTAMP:20250425T140016Z
SUMMARY:Practical Query Tuning in PostgreSQL: From Diagnosis to Optimization (Keiko Oda)
LOCATION:West
URL:https://postgresql.us/events/pgdaychicago2025/schedule/session/1901/
END:VEVENT
BEGIN:VEVENT
UID:1925@pgdaychicago2025
DTSTART:20250425T141500Z
DTEND:20250425T150000Z
DTSTAMP:20250425T140016Z
SUMMARY:1 Billion Row Challenge: Comparing Postgres, DuckDB, and Extensions (Ryan Booz)
LOCATION:East
URL:https://postgresql.us/events/pgdaychicago2025/schedule/session/1925/
END:VEVENT
BEGIN:VEVENT
UID:1912@pgdaychicago2025
DTSTART:20250425T151000Z
DTEND:20250425T155500Z
DTSTAMP:20250425T145520Z
SUMMARY:Living on the Edge - Distributed Postgres and You (Shaun Thomas)
LOCATION:West
URL:https://postgresql.us/events/pgdaychicago2025/schedule/session/1912/
END:VEVENT
BEGIN:VEVENT
UID:1890@pgdaychicago2025
DTSTART:20250425T151000Z
DTEND:20250425T155500Z
DTSTAMP:20250425T145520Z
SUMMARY:Table Bloat: Managing Your Tuple Graveyard (Chelsea Dole)
LOCATION:East
URL:https://postgresql.us/events/pgdaychicago2025/schedule/session/1890/
END:VEVENT
BEGIN:VEVENT
UID:1903@pgdaychicago2025
DTSTART:20250425T162000Z
DTEND:20250425T170500Z
DTSTAMP:20250425T160524Z
SUMMARY:Anatomy of Table-Level Locks in PostgreSQL (Gülçin Yıldırım Jelínek)
LOCATION:West
URL:https://postgresql.us/events/pgdaychicago2025/schedule/session/1903/
END:VEVENT
BEGIN:VEVENT
UID:1905@pgdaychicago2025
DTSTART:20250425T162000Z
DTEND:20250425T170500Z
DTSTAMP:20250425T160524Z
SUMMARY:The Power of Feedback: Building a Thriving PostgreSQL Community in Madagascar (BAOVOLA Marie Anna)
LOCATION:East
URL:https://postgresql.us/events/pgdaychicago2025/schedule/session/1905/
END:VEVENT
BEGIN:VEVENT
UID:1902@pgdaychicago2025
DTSTART:20250425T180000Z
DTEND:20250425T184500Z
DTSTAMP:20250425T174530Z
SUMMARY:Fun with Postgres High Availability Poker (David George Andrew Pitts, Teresa Lopes)
LOCATION:West
URL:https://postgresql.us/events/pgdaychicago2025/schedule/session/1902/
END:VEVENT
BEGIN:VEVENT
UID:1899@pgdaychicago2025
DTSTART:20250425T180000Z
DTEND:20250425T184500Z
DTSTAMP:20250425T174530Z
SUMMARY:Who Needs Kafka? PubSub Patterns Beyond Message Queues Using Postgres LISTEN/NOTIFY (Paul Whalen)
LOCATION:East
URL:https://postgresql.us/events/pgdaychicago2025/schedule/session/1899/
END:VEVENT
BEGIN:VEVENT
UID:1932@pgdaychicago2025
DTSTART:20250425T185500Z
DTEND:20250425T194000Z
DTSTAMP:20250425T184033Z
SUMMARY:Getting advice from Myself using PGVector, RAG, Flat Files and JSON_TABLEs (Jay Miller)
LOCATION:West
URL:https://postgresql.us/events/pgdaychicago2025/schedule/session/1932/
END:VEVENT
BEGIN:VEVENT
UID:1894@pgdaychicago2025
DTSTART:20250425T185500Z
DTEND:20250425T194000Z
DTSTAMP:20250425T184033Z
SUMMARY:Protecting your PostgreSQL data assets: one size does not fit all (Henrietta Dombrovskaya)
LOCATION:East
URL:https://postgresql.us/events/pgdaychicago2025/schedule/session/1894/
END:VEVENT
BEGIN:VEVENT
UID:1870@pgdaychicago2025
DTSTART:20250425T200500Z
DTEND:20250425T205000Z
DTSTAMP:20250425T195038Z
SUMMARY:Implementing Strict Serializability with pg_xact (Jimmy Zelinskie)
LOCATION:West
URL:https://postgresql.us/events/pgdaychicago2025/schedule/session/1870/
END:VEVENT
BEGIN:VEVENT
UID:1867@pgdaychicago2025
DTSTART:20250425T200500Z
DTEND:20250425T205000Z
DTSTAMP:20250425T195038Z
SUMMARY:CloudNativePG 101 (Gabriele Quaresima)
LOCATION:East
URL:https://postgresql.us/events/pgdaychicago2025/schedule/session/1867/
END:VEVENT
BEGIN:VEVENT
UID:1931@pgdaychicago2025
DTSTART:20250425T210000Z
DTEND:20250425T214500Z
DTSTAMP:20250425T204541Z
SUMMARY:The Journey of Your Query (Melih Mutlu)
LOCATION:East
URL:https://postgresql.us/events/pgdaychicago2025/schedule/session/1931/
END:VEVENT
BEGIN:VEVENT
UID:1891@pgdaychicago2025
DTSTART:20250425T210000Z
DTEND:20250425T214500Z
DTSTAMP:20250425T204541Z
SUMMARY:Start with a Clean Slate: Setting Up Integration Tests with PostgreSQL (Doğaç Eldenk)
LOCATION:West
URL:https://postgresql.us/events/pgdaychicago2025/schedule/session/1891/
END:VEVENT
BEGIN:VEVENT
UID:1941@pgdaychicago2025
DTSTART:20250425T215500Z
DTEND:20250425T222500Z
DTSTAMP:20250425T214044Z
SUMMARY:Lightning Talks (TBC)
LOCATION:East &amp; West
URL:https://postgresql.us/events/pgdaychicago2025/schedule/session/1941/
END:VEVENT
BEGIN:VEVENT
UID:1940@pgdaychicago2025
DTSTART:20250425T222500Z
DTEND:20250425T224000Z
DTSTAMP:20250425T221046Z
SUMMARY:Closing ()
LOCATION:East &amp; West
URL:https://postgresql.us/events/pgdaychicago2025/schedule/session/1940/
END:VEVENT
END:VCALENDAR
